BEGIN:VCALENDAR
VERSION:2.0
PRODID:-//eventon.com NONSGML v1.0//EN
CALSCALE:GREGORIAN
METHOD:PUBLISH
BEGIN:VEVENT
UID:69e5a9524e237
DTSTAMP:20260420T041930Z
DTSTART:20191106T120000Z
DTEND:20191106T130000Z
LOCATION:
SUMMARY:Webinar: Update from National Association of Long Term Care Administrator Boards
DESCRIPTION:This webinar is offered at no cost\,  however prior registratio
 n is required. The National Association of Long Term Care Administrator Boa
 rds (NAB) is the nation’s leading authority on licensing\,  credentialing
 \,  and regulating long term care (LTC) administrators of organizations alo
 ng the continuum. This presentation will share some of the newly[..]\nhttps
 ://sdaho.org/events/webinar-update-from-national-association-of-long-term-c
 are-administrator-boards/
URL:https://sdaho.org/events/webinar-update-from-national-association-of-long-term-care-administrator-boards/
END:VEVENT
END:VCALENDAR