BEGIN:VCALENDAR
VERSION:2.0
PRODID:-//eventon.com NONSGML v1.0//EN
CALSCALE:GREGORIAN
METHOD:PUBLISH
BEGIN:VEVENT
UID:69ea518072279
DTSTAMP:20260423T170608Z
DTSTART:20210204T130000Z
DTEND:20210204T140000Z
LOCATION:
SUMMARY:4-Part Webinar Series: Tools to Optimize Quality Dementia Care
DESCRIPTION:Register Here Series Overview Join LeadingAge Iowa for a 4-part
  series that covers tools to optimize quality dementia care. This series of
  webinars\,  presented by Kathleen Weissberg from Select Rehabilitation\,  
 is a comprehensive look at quality dementia care opportunities. The series 
 begins with an overview of evidence-based interventions to address[..]\nhtt
 ps://sdaho.org/events/4-part-webinar-series-tools-to-optimize-quality-demen
 tia-care/
URL:https://sdaho.org/events/4-part-webinar-series-tools-to-optimize-quality-dementia-care/
END:VEVENT
END:VCALENDAR