BEGIN:VCALENDAR
VERSION:2.0
PRODID:-//eventon.com NONSGML v1.0//EN
CALSCALE:GREGORIAN
METHOD:PUBLISH
BEGIN:VEVENT
UID:69e8d7c7216c2
DTSTAMP:20260422T141431Z
DTSTART:20210712T170000Z
DTEND:20210712T180000Z
LOCATION:
SUMMARY:Emergency Temporary Standard for COVID-19 in Healthcare
DESCRIPTION:Overview: This presentation will cover the new standard that be
 came effective on June 21st for the healthcare industry. The discussion wil
 l focus on which healthcare employers (including hospitals\,  nursing homes
 \,  and assisted living facilities\,  emergency responders\,  home healthca
 re workers; and some ambulatory care settings) are subject to the new stand
 ard[..]\nhttps://sdaho.org/events/emergency-temporary-standard-for-covid-19
 -in-healthcare/
URL:https://sdaho.org/events/emergency-temporary-standard-for-covid-19-in-healthcare/
END:VEVENT
END:VCALENDAR