BEGIN:VCALENDAR
VERSION:2.0
PRODID:-//eventon.com NONSGML v1.0//EN
CALSCALE:GREGORIAN
METHOD:PUBLISH
BEGIN:VEVENT
UID:69ed02a27046e
DTSTAMP:20260425T180626Z
DTSTART:20210811T170000Z
DTEND:20210811T183000Z
LOCATION:
SUMMARY:Partnerships in an Evolving Health Care Landscape
DESCRIPTION:An AHA Center for Health Innovation Webinar Health care deliver
 y continues to transform with new payment and care models that aim to impro
 ve health outcomes for patients and families. To better care for individual
 s with complex medical and social needs using these models\,  health system
 s and community-based organizations services are[..]\nhttps://sdaho.org/eve
 nts/partnerships-in-an-evolving-health-care-landscape/
URL:https://sdaho.org/events/partnerships-in-an-evolving-health-care-landscape/
END:VEVENT
END:VCALENDAR