BEGIN:VCALENDAR
VERSION:2.0
PRODID:-//eventon.com NONSGML v1.0//EN
CALSCALE:GREGORIAN
METHOD:PUBLISH
BEGIN:VEVENT
UID:69e7a791ecb4b
DTSTAMP:20260421T163633Z
DTSTART:20210929
DTEND:20210930
LOCATION:
SUMMARY:​21st Annual Community Response to Child Abuse Conference
DESCRIPTION:Register today for the 21st Annual Community Response to Child 
 Abuse Conference.  This two-day hybrid conference provides opportunities f
 or continuing education\,  networking\,  learning\,  and collaboration for 
 those who work to prevent and respond to child maltreatment and trauma. The
  Community Response to Child Abuse Conference (CRCAC) is an annual confer
 ence that brings[..]\nhttps://sdaho.org/events/%e2%80%8b21st-annual-communi
 ty-response-to-child-abuse-conference/
URL:https://sdaho.org/events/%e2%80%8b21st-annual-community-response-to-child-abuse-conference/
END:VEVENT
END:VCALENDAR