BEGIN:VCALENDAR
VERSION:2.0
PRODID:-//eventon.com NONSGML v1.0//EN
CALSCALE:GREGORIAN
METHOD:PUBLISH
BEGIN:VEVENT
UID:69eccc387e0d7
DTSTAMP:20260425T141416Z
DTSTART:20220921
DTEND:20220922
LOCATION:
SUMMARY:SDAHO Annual Convention
DESCRIPTION:Agenda Wednesday\,  September 21 1:00 – 6:00pm | Golf Tournam
 ent at Willow Run Golf Course 5:30 – 7:00 pm | Welcome Social at the Sher
 aton Thursday\,  September 22 7:00 – 8:15 am | Registration and Breakfast
  8:30 -9:30 am | Opening Keynote: The 4 Disciplines of Execution with Chris
  McChesney[..]\nhttps://sdaho.org/events/sdaho-annual-convention/
URL:https://sdaho.org/events/sdaho-annual-convention/
END:VEVENT
END:VCALENDAR