BEGIN:VCALENDAR
VERSION:2.0
PRODID:-//eventon.com NONSGML v1.0//EN
CALSCALE:GREGORIAN
METHOD:PUBLISH
BEGIN:VEVENT
UID:69ecd24536fd0
DTSTAMP:20260425T144005Z
DTSTART:20220215T170000Z
DTEND:20220215T180000Z
LOCATION:
SUMMARY:Keys to Avoiding and Defending Civil Monetary Penalties in Skilled Nursing
DESCRIPTION:Overview: Cited\,  then fined. Ugh. Navigating the terrain of C
 ivil Monetary Penalties (CMPs) can be challenging. This session will review
  CMS authority to impose a CMP and the factors used by CMS in assessing CMP
 s against facilities. Session will review how CMPs are calculated and the b
 asic amounts of CMPs.[..]\nhttps://sdaho.org/events/keys-to-avoiding-and-de
 fending-civil-monetary-penalties-in-skilled-nursing/
URL:https://sdaho.org/events/keys-to-avoiding-and-defending-civil-monetary-penalties-in-skilled-nursing/
END:VEVENT
END:VCALENDAR