BEGIN:VCALENDAR
VERSION:2.0
PRODID:-//eventon.com NONSGML v1.0//EN
CALSCALE:GREGORIAN
METHOD:PUBLISH
BEGIN:VEVENT
UID:69ea9d9861a63
DTSTAMP:20260423T223048Z
DTSTART:20220719T160000Z
DTEND:20220719T170000Z
LOCATION:
SUMMARY:Food Safety Hotline
DESCRIPTION:Overview: The importance of food safety and sound systems has b
 een heightened given the pandemic relative to infection control and consume
 r confidence.  During this session we will review relevant trends in senio
 r living surveys and reinvigorate an interest and pride in food safety and 
 sanitation programs. Objectives: Review trends in[..]\nhttps://sdaho.org/ev
 ents/food-safety-hotline/
URL:https://sdaho.org/events/food-safety-hotline/
END:VEVENT
END:VCALENDAR