BEGIN:VCALENDAR
VERSION:2.0
PRODID:-//eventon.com NONSGML v1.0//EN
CALSCALE:GREGORIAN
METHOD:PUBLISH
BEGIN:VEVENT
UID:69e7e19271189
DTSTAMP:20260421T204402Z
DTSTART:20220818T170000Z
DTEND:20220818T180000Z
LOCATION:
SUMMARY:Mastering Difficult Conversations with Compassionate Confidence
DESCRIPTION:Overview: This session will define the need\,  challenges and o
 pportunities in facilitating difficult conversations. Lores will identify r
 esearch based tools helpful in convening the conversations. CE’s: NHA &am
 p; SW Presenter: Lores Vlaminck\,  MA\,  BSN\,  RN\,  CHPN\,  LALD\,  Lores
  Consulting\,  LLC Lores Vlaminck is a provider of consulting\,  training a
 nd mentoring[..]\nhttps://sdaho.org/events/mastering-difficult-conversation
 s-with-compassionate-confidence/
URL:https://sdaho.org/events/mastering-difficult-conversations-with-compassionate-confidence/
END:VEVENT
END:VCALENDAR