BEGIN:VCALENDAR
VERSION:2.0
PRODID:-//eventon.com NONSGML v1.0//EN
CALSCALE:GREGORIAN
METHOD:PUBLISH
BEGIN:VEVENT
UID:69eb9f6bcd76b
DTSTAMP:20260424T165051Z
DTSTART:20220906T170000Z
DTEND:20220906T183000Z
LOCATION:
SUMMARY:Pain Assessment and management:  The Critical Role of Social Work
DESCRIPTION:Tuesday\,  September 6\,  2022 | 12:00 &#8211; 1:30pm (CT)/11:0
 0am &#8211; 12:30pm (MT) John G. Cagle\,  PhD\,  MSW SPS Member: FREE | NAS
 W Member: $20 | Nonmember: $35 1.5 Pain/Symptom Management CEs This webinar
  reviews the latest evidence-informed strategies for social workers to help
  assess and address pain within interdisciplinary models[..]\nhttps://sdaho
 .org/events/pain-assessment-and-management-the-critical-role-of-social-work
 /
URL:https://sdaho.org/events/pain-assessment-and-management-the-critical-role-of-social-work/
END:VEVENT
END:VCALENDAR