BEGIN:VCALENDAR
VERSION:2.0
PRODID:-//eventon.com NONSGML v1.0//EN
CALSCALE:GREGORIAN
METHOD:PUBLISH
BEGIN:VEVENT
UID:69e4e51869248
DTSTAMP:20260419T142216Z
DTSTART:20221006T160000Z
DTEND:20221006T170000Z
LOCATION:
SUMMARY:Key Strategies in Developing Policies and Procedures
DESCRIPTION:Overview: Join us for this information packed class that will w
 alk participants through key aspects of the research\,  development and fol
 low up involved in the development of policies and procedures. This fast-pa
 ced program will review template examples\,  strategies for identifying ess
 ential inclusions in your process (i.e.\,  regulatory compliance\,  standar
 ds of[..]\nhttps://sdaho.org/events/key-strategies-in-developing-policies-a
 nd-procedures/
URL:https://sdaho.org/events/key-strategies-in-developing-policies-and-procedures/
END:VEVENT
END:VCALENDAR