BEGIN:VCALENDAR
VERSION:2.0
PRODID:-//eventon.com NONSGML v1.0//EN
CALSCALE:GREGORIAN
METHOD:PUBLISH
BEGIN:VEVENT
UID:69e8759ee2eab
DTSTAMP:20260422T071542Z
DTSTART:20230202T180000Z
DTEND:20230202T190000Z
LOCATION:
SUMMARY:South Dakota MOST
DESCRIPTION:Overview: During this session\,  participants will be provided 
 an overview of the SD MOST regulations by Michele Snyders\,  SDAHO&#8217;s 
 Hospice and Palliative Care Program Manager. Ms. Snyders will identify heal
 thcare providers who can legally complete a MOST\,  along with patients who
  qualify for a MOST. She will also review how[..]\nhttps://sdaho.org/events
 /south-dakota-most/
URL:https://sdaho.org/events/south-dakota-most/
END:VEVENT
END:VCALENDAR