BEGIN:VCALENDAR
VERSION:2.0
PRODID:-//eventon.com NONSGML v1.0//EN
CALSCALE:GREGORIAN
METHOD:PUBLISH
BEGIN:VEVENT
UID:69e85d5a15f5f
DTSTAMP:20260422T053210Z
DTSTART:20230511T163000Z
DTEND:20230511T173000Z
LOCATION:
SUMMARY:Palliative Care In Amyotrophic Lateral Sclerosis (ALS)
DESCRIPTION:Purpose: The purpose of this webinar is to enhance knowledge o
 f the role of palliative care in managing amyotrophic lateral sclerosis (AL
 S) throughout the course of the disease. Objectives: Identify an interdisci
 plinary approach to management of symptoms that commonly occur in ALS Descr
 ibe strategies for disease-specific goals of care discussions regarding[..]
 \nhttps://sdaho.org/events/palliative-care-in-amyotrophic-lateral-sclerosis
 -als/
URL:https://sdaho.org/events/palliative-care-in-amyotrophic-lateral-sclerosis-als/
END:VEVENT
END:VCALENDAR