BEGIN:VCALENDAR
VERSION:2.0
PRODID:-//eventon.com NONSGML v1.0//EN
CALSCALE:GREGORIAN
METHOD:PUBLISH
BEGIN:VEVENT
UID:69e62faf7e2a1
DTSTAMP:20260420T135247Z
DTSTART:20240130T180000Z
DTEND:20240130T193000Z
LOCATION:
SUMMARY:Identifying Red Flags in the Credentialing and Privileging Processes
DESCRIPTION:January 30 at 12:00pm CST/11:00am MST (90 minute session) Overv
 iew: Recognizing “red flags” or any information indicating the presence
  of a potential problem that needs to be addressed is a crucial aspect of t
 he application process. While some red flags are obvious\,  others may be m
 ore subtle. This program will[..]\nhttps://sdaho.org/events/identifying-red
 -flags-in-the-credentialing-and-privileging-processes/
URL:https://sdaho.org/events/identifying-red-flags-in-the-credentialing-and-privileging-processes/
END:VEVENT
END:VCALENDAR