BEGIN:VCALENDAR
VERSION:2.0
PRODID:-//eventon.com NONSGML v1.0//EN
CALSCALE:GREGORIAN
METHOD:PUBLISH
BEGIN:VEVENT
UID:69e7a055c1186
DTSTAMP:20260421T160541Z
DTSTART:20240411T160000Z
DTEND:20240411T170000Z
LOCATION:
SUMMARY:Enhancing Care for Older Adults Living in Corrections
DESCRIPTION:April 11 at 11am CST/10am MST | Virtual Spring 2024 CGNE Semina
 r Series\,  Penn State Nese College of Nursing Presenter: Dr. Erin Kitt-Lew
 is\,  Associate Research Professor Penn State Ross and Carol Nese College o
 f Nursing Seminars are free and open to the public. Registration is require
 d. Click here to register.\nhttps://sdaho.org/events/enhancing-care-for-old
 er-adults-living-in-corrections/
URL:https://sdaho.org/events/enhancing-care-for-older-adults-living-in-corrections/
END:VEVENT
END:VCALENDAR