BEGIN:VCALENDAR
VERSION:2.0
PRODID:-//eventon.com NONSGML v1.0//EN
CALSCALE:GREGORIAN
METHOD:PUBLISH
BEGIN:VEVENT
UID:69eb5916b9dd3
DTSTAMP:20260424T115046Z
DTSTART:20240508T183000Z
DTEND:20240508T193000Z
LOCATION:
SUMMARY:Enforcement Remedies (LTC Survey series)
DESCRIPTION:May 8 at 1:30pm CST/12:30pm MST Overview: This session will rev
 iew the CMS Enforcement Remedies from the Plan of Correction to Denial of P
 ayment for New Admissions (DPNA)\,  and everything in between. The Deficien
 cy Scope and Severity Grid will be reviewed\,  along with the CMS Civil Mon
 etary Penalty (CMP) calculator.[..]\nhttps://sdaho.org/events/enforcement-r
 emedies-ltc-survey-series/
URL:https://sdaho.org/events/enforcement-remedies-ltc-survey-series/
END:VEVENT
END:VCALENDAR